BEGIN:VCALENDAR
VERSION:2.0
PRODID:-//Your Organization//NONSGML v1.0//EN
BEGIN:VEVENT
UID:69e8fc1282073@dyna-products.com
DTSTAMP:20260422T164922Z
DTSTART:20250817T160000Z
DTEND:20250818T010000Z
SUMMARY:NYS Woodsmen&#8217;s Field Days
DESCRIPTION:
LOCATION:Boonville Oneida County Fairgrounds at NYS Route 294 in Boonville NY 
URL:https://woodsmensfielddays.com/
END:VEVENT
END:VCALENDAR
